BEGIN:VCALENDAR
VERSION:2.0
PRODID:-//Mateřská škola Nová 499 - ECPv6.15.17//NONSGML v1.0//EN
CALSCALE:GREGORIAN
METHOD:PUBLISH
X-ORIGINAL-URL:https://www.msnova.cz
X-WR-CALDESC:Akce na Mateřská škola Nová 499
REFRESH-INTERVAL;VALUE=DURATION:PT1H
X-Robots-Tag:noindex
X-PUBLISHED-TTL:PT1H
BEGIN:VTIMEZONE
TZID:Europe/Prague
BEGIN:DAYLIGHT
TZOFFSETFROM:+0100
TZOFFSETTO:+0200
TZNAME:CEST
DTSTART:20250330T010000
END:DAYLIGHT
BEGIN:STANDARD
TZOFFSETFROM:+0200
TZOFFSETTO:+0100
TZNAME:CET
DTSTART:20251026T010000
END:STANDARD
BEGIN:DAYLIGHT
TZOFFSETFROM:+0100
TZOFFSETTO:+0200
TZNAME:CEST
DTSTART:20260329T010000
END:DAYLIGHT
BEGIN:STANDARD
TZOFFSETFROM:+0200
TZOFFSETTO:+0100
TZNAME:CET
DTSTART:20261025T010000
END:STANDARD
BEGIN:DAYLIGHT
TZOFFSETFROM:+0100
TZOFFSETTO:+0200
TZNAME:CEST
DTSTART:20270328T010000
END:DAYLIGHT
BEGIN:STANDARD
TZOFFSETFROM:+0200
TZOFFSETTO:+0100
TZNAME:CET
DTSTART:20271031T010000
END:STANDARD
END:VTIMEZONE
BEGIN:VEVENT
DTSTART;VALUE=DATE:20260326
DTEND;VALUE=DATE:20260327
DTSTAMP:20260425T161211
CREATED:20260311T142952Z
LAST-MODIFIED:20260311T142952Z
UID:13003-1774483200-1774569599@www.msnova.cz
SUMMARY:Ukliďme Česko - osvěta a uklid okolí školky a míst kam si chodíme hrát
DESCRIPTION:
URL:https://www.msnova.cz/kalendar-akce/uklidme-cesko-osveta-a-uklid-okoli-skolky-a-mist-kam-si-chodime-hrat/
CATEGORIES:Akce
END:VEVENT
BEGIN:VEVENT
DTSTART;VALUE=DATE:20260327
DTEND;VALUE=DATE:20260328
DTSTAMP:20260425T161211
CREATED:20260311T143040Z
LAST-MODIFIED:20260311T143040Z
UID:13006-1774569600-1774655999@www.msnova.cz
SUMMARY:Zápisy do MŠ - od 9-12 a od 13 do 16 hod.
DESCRIPTION:
URL:https://www.msnova.cz/kalendar-akce/zapisy-do-ms-od-9-12-a-od-13-do-16-hod/
CATEGORIES:Akce
END:VEVENT
BEGIN:VEVENT
DTSTART;VALUE=DATE:20260330
DTEND;VALUE=DATE:20260331
DTSTAMP:20260425T161211
CREATED:20260311T143119Z
LAST-MODIFIED:20260311T143119Z
UID:13009-1774828800-1774915199@www.msnova.cz
SUMMARY:Plavání 7. lekce
DESCRIPTION:
URL:https://www.msnova.cz/kalendar-akce/plavani-7-lekce/
CATEGORIES:Akce
END:VEVENT
BEGIN:VEVENT
DTSTART;VALUE=DATE:20260331
DTEND;VALUE=DATE:20260401
DTSTAMP:20260425T161211
CREATED:20260311T143156Z
LAST-MODIFIED:20260311T143156Z
UID:13012-1774915200-1775001599@www.msnova.cz
SUMMARY:Vyšetření zraku - objednanné děti
DESCRIPTION:
URL:https://www.msnova.cz/kalendar-akce/vysetreni-zraku-objednanne-deti/
CATEGORIES:Akce
END:VEVENT
BEGIN:VEVENT
DTSTART;VALUE=DATE:20260407
DTEND;VALUE=DATE:20260408
DTSTAMP:20260425T161211
CREATED:20260401T124623Z
LAST-MODIFIED:20260401T124623Z
UID:13016-1775520000-1775606399@www.msnova.cz
SUMMARY:Fotografování dětí
DESCRIPTION:
URL:https://www.msnova.cz/kalendar-akce/fotografovani-deti/
CATEGORIES:Akce
END:VEVENT
BEGIN:VEVENT
DTSTART;VALUE=DATE:20260408
DTEND;VALUE=DATE:20260409
DTSTAMP:20260425T161211
CREATED:20260401T124722Z
LAST-MODIFIED:20260401T124722Z
UID:13019-1775606400-1775692799@www.msnova.cz
SUMMARY:Přednáška pro děti o práci policie
DESCRIPTION:
URL:https://www.msnova.cz/kalendar-akce/prednaska-pro-deti-o-praci-policie/
CATEGORIES:Akce
END:VEVENT
BEGIN:VEVENT
DTSTART;VALUE=DATE:20260409
DTEND;VALUE=DATE:20260410
DTSTAMP:20260425T161211
CREATED:20260401T124834Z
LAST-MODIFIED:20260401T124834Z
UID:13022-1775692800-1775779199@www.msnova.cz
SUMMARY:Malá technická univerzita - Malý energetik - 8. lekce
DESCRIPTION:
URL:https://www.msnova.cz/kalendar-akce/mala-technicka-univerzita-maly-energetik-8-lekce/
CATEGORIES:Akce
END:VEVENT
BEGIN:VEVENT
DTSTART;VALUE=DATE:20260413
DTEND;VALUE=DATE:20260414
DTSTAMP:20260425T161211
CREATED:20260401T124917Z
LAST-MODIFIED:20260401T124917Z
UID:13025-1776038400-1776124799@www.msnova.cz
SUMMARY:Plavání 8. lekce
DESCRIPTION:
URL:https://www.msnova.cz/kalendar-akce/plavani-8-lekce/
CATEGORIES:Akce
END:VEVENT
BEGIN:VEVENT
DTSTART;VALUE=DATE:20260420
DTEND;VALUE=DATE:20260421
DTSTAMP:20260425T161211
CREATED:20260401T124950Z
LAST-MODIFIED:20260401T124950Z
UID:13028-1776643200-1776729599@www.msnova.cz
SUMMARY:Plavání 9. lekce
DESCRIPTION:
URL:https://www.msnova.cz/kalendar-akce/plavani-9-lekce/
CATEGORIES:Akce
END:VEVENT
BEGIN:VEVENT
DTSTART;VALUE=DATE:20260422
DTEND;VALUE=DATE:20260423
DTSTAMP:20260425T161211
CREATED:20260401T125030Z
LAST-MODIFIED:20260401T125030Z
UID:13031-1776816000-1776902399@www.msnova.cz
SUMMARY:Slavíme Den Země
DESCRIPTION:
URL:https://www.msnova.cz/kalendar-akce/slavime-den-zeme/
CATEGORIES:Akce
END:VEVENT
BEGIN:VEVENT
DTSTART;VALUE=DATE:20260507
DTEND;VALUE=DATE:20260508
DTSTAMP:20260425T161211
CREATED:20260401T125120Z
LAST-MODIFIED:20260401T125301Z
UID:13034-1778112000-1778198399@www.msnova.cz
SUMMARY:Parník: Projektový den s MTU Malý zpracovatel odpadů - 9. lekce
DESCRIPTION:
URL:https://www.msnova.cz/kalendar-akce/projektovy-den-s-mtu-maly-zpracovatel-odpadu-9-lekce/
CATEGORIES:Akce
END:VEVENT
BEGIN:VEVENT
DTSTART;VALUE=DATE:20260514
DTEND;VALUE=DATE:20260515
DTSTAMP:20260425T161211
CREATED:20260401T125225Z
LAST-MODIFIED:20260401T125225Z
UID:13037-1778716800-1778803199@www.msnova.cz
SUMMARY:Eden: Projektový den s MTU Malý zpracovatel odpadů 9. lekce
DESCRIPTION:
URL:https://www.msnova.cz/kalendar-akce/eden-projektovy-den-s-mtu-maly-zpracovatel-odpadu-9-lekce/
CATEGORIES:Akce
END:VEVENT
BEGIN:VEVENT
DTSTART;VALUE=DATE:20260526
DTEND;VALUE=DATE:20260527
DTSTAMP:20260425T161211
CREATED:20260401T125415Z
LAST-MODIFIED:20260401T125415Z
UID:13042-1779753600-1779839999@www.msnova.cz
SUMMARY:Eden: zahradní slavnost - loučení s předškoláky
DESCRIPTION:
URL:https://www.msnova.cz/kalendar-akce/eden-zahradni-slavnost-louceni-s-predskolaky/
END:VEVENT
BEGIN:VEVENT
DTSTART;VALUE=DATE:20260528
DTEND;VALUE=DATE:20260529
DTSTAMP:20260425T161211
CREATED:20260401T125503Z
LAST-MODIFIED:20260401T125503Z
UID:13045-1779926400-1780012799@www.msnova.cz
SUMMARY:Parník: zahradní slavnost - loučení s předškoláky
DESCRIPTION:
URL:https://www.msnova.cz/kalendar-akce/parnik-zahradni-slavnost-louceni-s-predskolaky/
CATEGORIES:Akce
END:VEVENT
BEGIN:VEVENT
DTSTART;VALUE=DATE:20260604
DTEND;VALUE=DATE:20260605
DTSTAMP:20260425T161211
CREATED:20260401T125615Z
LAST-MODIFIED:20260401T125615Z
UID:13048-1780531200-1780617599@www.msnova.cz
SUMMARY:MTU Malý archeolog - 10. lekce
DESCRIPTION:
URL:https://www.msnova.cz/kalendar-akce/mtu-maly-archeolog-10-lekce/
CATEGORIES:Akce
END:VEVENT
END:VCALENDAR